BEGIN:VCALENDAR
VERSION:2.0
PRODID:-//http://whatsnew.villageoflakeorion.org//NONSGML kigkonsult.se iCa
 lcreator 2.29.29//
CALSCALE:GREGORIAN
METHOD:PUBLISH
UID:1f0cbaef-8002-4c33-abe2-d91e2d1a06ee
X-WR-CALNAME:JCal Pro Calendar
X-WR-CALDESC:Your online events calendar
X-WR-TIMEZONE:UTC
BEGIN:VTIMEZONE
TZID:UTC
END:VTIMEZONE
BEGIN:VEVENT
UID:20200324T183000UTC-8978O5hjE7@http://www.lakeorion.org/
DTSTAMP:20260420T092732Z
CATEGORIES:Village Board Meetings
DTSTART:20200526T183000Z
DTEND:20200526T200000Z
SUMMARY:Parks & Recreation Meeting
URL:http://whatsnew.villageoflakeorion.org/index.php/about/calendar/47-vill
 age-board-meetings/110-parks-recreation-meeting-2
END:VEVENT
END:VCALENDAR
