BEGIN:VCALENDAR
VERSION:2.0
PRODID:-//http://whatsnew.villageoflakeorion.org//NONSGML kigkonsult.se iCa
 lcreator 2.29.29//
CALSCALE:GREGORIAN
METHOD:PUBLISH
UID:75f76aff-098a-42d2-b1fe-be97e809289e
X-WR-CALNAME:JCal Pro Calendar
X-WR-CALDESC:Your online events calendar
X-WR-TIMEZONE:UTC
BEGIN:VTIMEZONE
TZID:UTC
END:VTIMEZONE
BEGIN:VEVENT
UID:20200728T183000UTC-43469dgcG7@http://www.lakeorion.org/
DTSTAMP:20260420T131637Z
CATEGORIES:Village Board Meetings
DTSTART:20200825T183000Z
DTEND:20200825T200000Z
SUMMARY:Parks & Recreation Meeting
URL:http://whatsnew.villageoflakeorion.org/index.php/about/calendar/47-vill
 age-board-meetings/113-parks-recreation-meeting-2
END:VEVENT
END:VCALENDAR
