BEGIN:VCALENDAR
VERSION:2.0
PRODID:-//http://whatsnew.villageoflakeorion.org//NONSGML kigkonsult.se iCa
 lcreator 2.29.29//
CALSCALE:GREGORIAN
METHOD:PUBLISH
UID:899a9d3a-9a3b-47eb-aeeb-b0400be31549
X-WR-CALNAME:JCal Pro Calendar
X-WR-CALDESC:Your online events calendar
X-WR-TIMEZONE:UTC
BEGIN:VTIMEZONE
TZID:UTC
END:VTIMEZONE
BEGIN:VEVENT
UID:20200622T193000UTC-4781v1OBIJ@http://www.lakeorion.org/
DTSTAMP:20260420T105452Z
CATEGORIES:Village Board Meetings
DTSTART:20200622T193000Z
DTEND:20200622T210000Z
SUMMARY:Village Council Meeting
URL:http://whatsnew.villageoflakeorion.org/index.php/about/calendar/47-vill
 age-board-meetings/79-village-council-meeting
END:VEVENT
END:VCALENDAR
